Package: scDesign3 Version: 1.8.0 Maintainer: Dongyuan Song MaintainerEmail: dongyuansong at ucla.edu git_url: https://git.bioconductor.org/packages/scDesign3 git_branch: RELEASE_3_22 git_last_commit: 47185c0 git_last_commit_date: 2025-10-29 11:26:29 -0500 (Wed, 29 Oct 2025)