Package: scDblFinder Version: 1.23.9 Command: /home/biocbuild/bbs-3.22-bioc/R/bin/R CMD INSTALL scDblFinder StartedAt: 2025-10-24 16:05:50 -0400 (Fri, 24 Oct 2025) EndedAt: 2025-10-24 16:06:33 -0400 (Fri, 24 Oct 2025) EllapsedTime: 43.1 seconds RetCode: 0 Status: OK