Package: scDblFinder Version: 1.23.9 Command: /home/biocbuild/bbs-3.22-bioc/R/bin/R CMD build --keep-empty-dirs --no-resave-data --md5 scDblFinder StartedAt: 2025-10-24 19:59:15 -0400 (Fri, 24 Oct 2025) EndedAt: 2025-10-24 20:01:45 -0400 (Fri, 24 Oct 2025) EllapsedTime: 150.1 seconds RetCode: 0 Status: OK PackageFile: scDblFinder_1.23.9.tar.gz PackageFileSize: 2.146 MiB