Package: scDataviz Version: 1.20.0 Command: /home/biocbuild/R/R/bin/R CMD INSTALL scDataviz StartedAt: 2025-11-20 22:25:49 -0000 (Thu, 20 Nov 2025) EndedAt: 2025-11-20 22:26:41 -0000 (Thu, 20 Nov 2025) EllapsedTime: 51.9 seconds RetCode: 0 Status: OK