Package: scDataviz Version: 1.20.0 Command: /home/biocbuild/R/R/bin/R CMD build --keep-empty-dirs --no-resave-data scDataviz StartedAt: 2025-11-21 05:33:25 -0000 (Fri, 21 Nov 2025) EndedAt: 2025-11-21 05:38:22 -0000 (Fri, 21 Nov 2025) EllapsedTime: 297.2 seconds RetCode: 0 Status: OK PackageFile: scDataviz_1.20.0.tar.gz PackageFileSize: 5.261 MiB