Package: scDataviz Version: 1.19.1 Command: /home/biocbuild/bbs-3.22-bioc/R/bin/R CMD INSTALL scDataviz StartedAt: 2025-10-24 15:44:36 -0400 (Fri, 24 Oct 2025) EndedAt: 2025-10-24 15:45:14 -0400 (Fri, 24 Oct 2025) EllapsedTime: 37.5 seconds RetCode: 0 Status: OK