Package: scDataviz Version: 1.19.1 Command: /home/biocbuild/bbs-3.22-bioc/R/bin/R CMD build --keep-empty-dirs --no-resave-data --md5 scDataviz StartedAt: 2025-10-24 19:59:10 -0400 (Fri, 24 Oct 2025) EndedAt: 2025-10-24 20:03:14 -0400 (Fri, 24 Oct 2025) EllapsedTime: 244.2 seconds RetCode: 0 Status: OK PackageFile: scDataviz_1.19.1.tar.gz PackageFileSize: 7.482 MiB