Package: scDataviz Version: 1.19.1 Command: /Library/Frameworks/R.framework/Resources/bin/R CMD INSTALL scDataviz StartedAt: 2025-10-24 15:39:54 -0400 (Fri, 24 Oct 2025) EndedAt: 2025-10-24 15:40:46 -0400 (Fri, 24 Oct 2025) EllapsedTime: 52.3 seconds RetCode: 0 Status: OK