Package: scDataviz Version: 1.19.1 Command: /Library/Frameworks/R.framework/Resources/bin/R CMD build --keep-empty-dirs --no-resave-data scDataviz StartedAt: 2025-10-24 18:37:45 -0400 (Fri, 24 Oct 2025) EndedAt: 2025-10-24 18:42:49 -0400 (Fri, 24 Oct 2025) EllapsedTime: 304.3 seconds RetCode: 0 Status: OK PackageFile: scDataviz_1.19.1.tar.gz PackageFileSize: 8.219 MiB