Package: scDataviz Version: 1.19.1 Command: rm -rf scDataviz.buildbin-libdir && mkdir scDataviz.buildbin-libdir && /Users/biocbuild/BBS/utils/build-universal.sh scDataviz_1.19.1.tar.gz /Library/Frameworks/R.framework/Resources/bin/R scDataviz.buildbin-libdir StartedAt: 2025-10-25 02:02:12 -0400 (Sat, 25 Oct 2025) EndedAt: 2025-10-25 02:03:08 -0400 (Sat, 25 Oct 2025) EllapsedTime: 56.6 seconds RetCode: 0 Status: OK PackageFile: scDataviz_1.19.1.tgz PackageFileSize: 5.305 MiB