Package: scDataviz Version: 1.19.1 Command: /Library/Frameworks/R.framework/Resources/bin/R CMD INSTALL scDataviz StartedAt: 2025-10-26 15:18:42 -0400 (Sun, 26 Oct 2025) EndedAt: 2025-10-26 15:18:57 -0400 (Sun, 26 Oct 2025) EllapsedTime: 14.8 seconds RetCode: 0 Status: OK