Package: scDDboost Version: 1.12.0 Command: /home/biocbuild/R/R/bin/R CMD INSTALL scDDboost StartedAt: 2025-11-20 22:08:16 -0000 (Thu, 20 Nov 2025) EndedAt: 2025-11-20 22:09:47 -0000 (Thu, 20 Nov 2025) EllapsedTime: 90.0 seconds RetCode: 0 Status: OK