Package: scDDboost Version: 1.12.0 Command: /home/biocbuild/R/R/bin/R CMD build --keep-empty-dirs --no-resave-data scDDboost StartedAt: 2025-11-21 05:34:18 -0000 (Fri, 21 Nov 2025) EndedAt: 2025-11-21 05:36:43 -0000 (Fri, 21 Nov 2025) EllapsedTime: 145.1 seconds RetCode: 0 Status: OK PackageFile: scDDboost_1.12.0.tar.gz PackageFileSize: 627.2 KiB