Package: scDDboost Version: 1.11.0 Command: /home/biocbuild/bbs-3.22-bioc/R/bin/R CMD INSTALL scDDboost StartedAt: 2025-10-24 15:29:36 -0400 (Fri, 24 Oct 2025) EndedAt: 2025-10-24 15:30:35 -0400 (Fri, 24 Oct 2025) EllapsedTime: 58.9 seconds RetCode: 0 Status: OK