Package: scDDboost Version: 1.11.0 Command: /home/biocbuild/bbs-3.22-bioc/R/bin/R CMD build --keep-empty-dirs --no-resave-data --md5 scDDboost StartedAt: 2025-10-24 19:59:23 -0400 (Fri, 24 Oct 2025) EndedAt: 2025-10-24 20:00:57 -0400 (Fri, 24 Oct 2025) EllapsedTime: 94.1 seconds RetCode: 0 Status: OK PackageFile: scDDboost_1.11.0.tar.gz PackageFileSize: 816.2 KiB