Package: scDDboost Version: 1.12.0 Command: /Library/Frameworks/R.framework/Resources/bin/R CMD build --keep-empty-dirs --no-resave-data scDDboost StartedAt: 2025-11-18 01:55:16 -0500 (Tue, 18 Nov 2025) EndedAt: 2025-11-18 01:58:57 -0500 (Tue, 18 Nov 2025) EllapsedTime: 220.9 seconds RetCode: 0 Status: OK PackageFile: scDDboost_1.12.0.tar.gz PackageFileSize: 855.6 KiB