Package: scDDboost Version: 1.11.0 Command: /Library/Frameworks/R.framework/Resources/bin/R CMD INSTALL scDDboost StartedAt: 2025-10-24 15:14:53 -0400 (Fri, 24 Oct 2025) EndedAt: 2025-10-24 15:15:14 -0400 (Fri, 24 Oct 2025) EllapsedTime: 21.2 seconds RetCode: 0 Status: OK