Package: scDDboost Version: 1.11.0 Command: /Library/Frameworks/R.framework/Resources/bin/R CMD build --keep-empty-dirs --no-resave-data scDDboost StartedAt: 2025-10-24 17:38:12 -0400 (Fri, 24 Oct 2025) EndedAt: 2025-10-24 17:38:53 -0400 (Fri, 24 Oct 2025) EllapsedTime: 40.4 seconds RetCode: 0 Status: OK PackageFile: scDDboost_1.11.0.tar.gz PackageFileSize: 853.7 KiB