Package: scDDboost Version: 1.11.0 Command: rm -rf scDDboost.buildbin-libdir && mkdir scDDboost.buildbin-libdir && /Users/biocbuild/BBS/utils/build-universal.sh scDDboost_1.11.0.tar.gz /Library/Frameworks/R.framework/Resources/bin/R scDDboost.buildbin-libdir StartedAt: 2025-10-24 23:18:30 -0400 (Fri, 24 Oct 2025) EndedAt: 2025-10-24 23:18:53 -0400 (Fri, 24 Oct 2025) EllapsedTime: 22.5 seconds RetCode: 0 Status: OK PackageFile: scDDboost_1.11.0.tgz PackageFileSize: 976.6 KiB