Package: scDDboost Version: 1.12.0 Command: /Library/Frameworks/R.framework/Resources/bin/R CMD build --keep-empty-dirs --no-resave-data scDDboost StartedAt: 2025-11-18 00:35:31 -0500 (Tue, 18 Nov 2025) EndedAt: 2025-11-18 00:36:06 -0500 (Tue, 18 Nov 2025) EllapsedTime: 34.3 seconds RetCode: 0 Status: OK PackageFile: scDDboost_1.12.0.tar.gz PackageFileSize: 851.9 KiB