Package: scDDboost Version: 1.12.0 Command: rm -rf scDDboost.buildbin-libdir && mkdir scDDboost.buildbin-libdir && /Users/biocbuild/BBS/utils/build-universal.sh scDDboost_1.12.0.tar.gz /Library/Frameworks/R.framework/Resources/bin/R scDDboost.buildbin-libdir StartedAt: 2025-11-18 16:21:01 -0500 (Tue, 18 Nov 2025) EndedAt: 2025-11-18 16:21:29 -0500 (Tue, 18 Nov 2025) EllapsedTime: 28.3 seconds RetCode: 0 Status: OK PackageFile: scDDboost_1.12.0.tgz PackageFileSize: 975.2 KiB