Package: scDDboost Version: 1.12.0 Maintainer: Xiuyu Ma MaintainerEmail: watsonforfun at gmail.com git_url: https://git.bioconductor.org/packages/scDDboost git_branch: RELEASE_3_22 git_last_commit: 2aff65c git_last_commit_date: 2025-10-29 11:17:12 -0500 (Wed, 29 Oct 2025)