Package: scDD Version: 1.34.0 Command: /home/biocbuild/bbs-3.22-bioc/R/bin/R CMD INSTALL scDD StartedAt: 2025-10-29 22:15:22 -0400 (Wed, 29 Oct 2025) EndedAt: 2025-10-29 22:15:59 -0400 (Wed, 29 Oct 2025) EllapsedTime: 36.9 seconds RetCode: 0 Status: OK