Package: scClassify Version: 1.22.0 Command: /Library/Frameworks/R.framework/Resources/bin/R CMD build --keep-empty-dirs --no-resave-data scClassify StartedAt: 2025-11-03 18:37:36 -0500 (Mon, 03 Nov 2025) EndedAt: 2025-11-03 18:39:41 -0500 (Mon, 03 Nov 2025) EllapsedTime: 124.9 seconds RetCode: 0 Status: OK PackageFile: scClassify_1.22.0.tar.gz PackageFileSize: 2.91 MiB