Package: scClassify Version: 1.22.0 Command: /Library/Frameworks/R.framework/Resources/bin/R CMD INSTALL scClassify StartedAt: 2025-11-17 17:30:37 -0500 (Mon, 17 Nov 2025) EndedAt: 2025-11-17 17:30:52 -0500 (Mon, 17 Nov 2025) EllapsedTime: 14.6 seconds RetCode: 0 Status: OK