Package: scClassify Version: 1.22.0 Command: /Library/Frameworks/R.framework/Resources/bin/R CMD build --keep-empty-dirs --no-resave-data scClassify StartedAt: 2025-11-18 00:33:39 -0500 (Tue, 18 Nov 2025) EndedAt: 2025-11-18 00:34:19 -0500 (Tue, 18 Nov 2025) EllapsedTime: 39.4 seconds RetCode: 0 Status: OK PackageFile: scClassify_1.22.0.tar.gz PackageFileSize: 2.91 MiB