Package: scClassify Version: 1.22.0 Maintainer: Yingxin Lin MaintainerEmail: yingxin.lin at sydney.edu.au git_url: https://git.bioconductor.org/packages/scClassify git_branch: RELEASE_3_22 git_last_commit: b85cf96 git_last_commit_date: 2025-10-29 10:58:49 -0500 (Wed, 29 Oct 2025)