Package: scBubbletree Version: 1.12.0 Command: /Library/Frameworks/R.framework/Resources/bin/R CMD INSTALL scBubbletree StartedAt: 2025-11-17 17:08:27 -0500 (Mon, 17 Nov 2025) EndedAt: 2025-11-17 17:09:11 -0500 (Mon, 17 Nov 2025) EllapsedTime: 44.3 seconds RetCode: 0 Status: OK