Package: scBubbletree Version: 1.12.0 Command: /Library/Frameworks/R.framework/Resources/bin/R CMD build --keep-empty-dirs --no-resave-data scBubbletree StartedAt: 2025-11-18 01:54:31 -0500 (Tue, 18 Nov 2025) EndedAt: 2025-11-18 02:05:54 -0500 (Tue, 18 Nov 2025) EllapsedTime: 682.8 seconds RetCode: 0 Status: OK PackageFile: scBubbletree_1.12.0.tar.gz PackageFileSize: 4.423 MiB