Package: scBubbletree Version: 1.11.0 Command: /Library/Frameworks/R.framework/Resources/bin/R CMD INSTALL scBubbletree StartedAt: 2025-10-26 15:06:22 -0400 (Sun, 26 Oct 2025) EndedAt: 2025-10-26 15:06:29 -0400 (Sun, 26 Oct 2025) EllapsedTime: 6.9 seconds RetCode: 0 Status: OK