Package: scBubbletree Version: 1.11.0 Command: /Library/Frameworks/R.framework/Resources/bin/R CMD build --keep-empty-dirs --no-resave-data scBubbletree StartedAt: 2025-10-26 17:50:54 -0400 (Sun, 26 Oct 2025) EndedAt: 2025-10-26 17:53:10 -0400 (Sun, 26 Oct 2025) EllapsedTime: 135.4 seconds RetCode: 0 Status: OK PackageFile: scBubbletree_1.11.0.tar.gz PackageFileSize: 4.418 MiB