Package: scBubbletree Version: 1.11.0 Command: rm -rf scBubbletree.buildbin-libdir && mkdir scBubbletree.buildbin-libdir && /Users/biocbuild/BBS/utils/build-universal.sh scBubbletree_1.11.0.tar.gz /Library/Frameworks/R.framework/Resources/bin/R scBubbletree.buildbin-libdir StartedAt: 2025-10-26 22:47:24 -0400 (Sun, 26 Oct 2025) EndedAt: 2025-10-26 22:47:32 -0400 (Sun, 26 Oct 2025) EllapsedTime: 8.1 seconds RetCode: 0 Status: OK PackageFile: scBubbletree_1.11.0.tgz PackageFileSize: 2.58 MiB