Package: scBubbletree Version: 1.12.0 Command: /Library/Frameworks/R.framework/Resources/bin/R CMD INSTALL scBubbletree StartedAt: 2025-11-17 17:10:00 -0500 (Mon, 17 Nov 2025) EndedAt: 2025-11-17 17:10:07 -0500 (Mon, 17 Nov 2025) EllapsedTime: 7.3 seconds RetCode: 0 Status: OK