Package: scBubbletree Version: 1.12.0 Command: /Library/Frameworks/R.framework/Resources/bin/R CMD check --install=check:scBubbletree.install-out.txt --library=/Library/Frameworks/R.framework/Resources/library --no-vignettes --timings scBubbletree_1.12.0.tar.gz StartedAt: 2025-11-18 12:25:38 -0500 (Tue, 18 Nov 2025) EndedAt: 2025-11-18 12:30:42 -0500 (Tue, 18 Nov 2025) EllapsedTime: 304.3 seconds RetCode: 0 Status: OK CheckDir: scBubbletree.Rcheck Warnings: 0