Package: scBubbletree Version: 1.12.0 Command: /Library/Frameworks/R.framework/Resources/bin/R CMD build --keep-empty-dirs --no-resave-data scBubbletree StartedAt: 2025-11-18 00:33:21 -0500 (Tue, 18 Nov 2025) EndedAt: 2025-11-18 00:35:54 -0500 (Tue, 18 Nov 2025) EllapsedTime: 153.4 seconds RetCode: 0 Status: OK PackageFile: scBubbletree_1.12.0.tar.gz PackageFileSize: 4.42 MiB