Package: saseR Version: 1.6.0 Command: /home/biocbuild/bbs-3.22-bioc/R/bin/R CMD INSTALL saseR StartedAt: 2025-11-20 16:42:38 -0500 (Thu, 20 Nov 2025) EndedAt: 2025-11-20 16:43:33 -0500 (Thu, 20 Nov 2025) EllapsedTime: 55.3 seconds RetCode: 0 Status: OK