Package: saseR Version: 1.6.0 Command: /home/biocbuild/bbs-3.22-bioc/R/bin/R CMD build --keep-empty-dirs --no-resave-data --md5 saseR StartedAt: 2025-11-20 20:37:23 -0500 (Thu, 20 Nov 2025) EndedAt: 2025-11-20 20:41:33 -0500 (Thu, 20 Nov 2025) EllapsedTime: 249.2 seconds RetCode: 0 Status: OK PackageFile: saseR_1.6.0.tar.gz PackageFileSize: 1.209 MiB