Package: sangerseqR Version: 1.46.0 Command: /home/biocbuild/bbs-3.22-bioc/R/bin/R CMD INSTALL sangerseqR StartedAt: 2025-11-06 15:50:17 -0500 (Thu, 06 Nov 2025) EndedAt: 2025-11-06 15:50:30 -0500 (Thu, 06 Nov 2025) EllapsedTime: 13.7 seconds RetCode: 0 Status: OK