Package: sampleClassifier Version: 1.33.0 Command: /home/biocbuild/R/R/bin/R CMD build --keep-empty-dirs --no-resave-data sampleClassifier StartedAt: 2025-10-21 02:44:40 -0000 (Tue, 21 Oct 2025) EndedAt: 2025-10-21 02:47:20 -0000 (Tue, 21 Oct 2025) EllapsedTime: 159.1 seconds RetCode: 0 Status: OK PackageFile: sampleClassifier_1.33.0.tar.gz PackageFileSize: 230.8 KiB