Package: sampleClassifier Version: 1.34.0 Command: /home/biocbuild/bbs-3.22-bioc/R/bin/R CMD check --install=check:sampleClassifier.install-out.txt --library=/home/biocbuild/bbs-3.22-bioc/R/site-library --timings sampleClassifier_1.34.0.tar.gz StartedAt: 2025-10-31 03:34:02 -0400 (Fri, 31 Oct 2025) EndedAt: 2025-10-31 03:39:51 -0400 (Fri, 31 Oct 2025) EllapsedTime: 349.4 seconds RetCode: 0 Status: OK CheckDir: sampleClassifier.Rcheck Warnings: 0