Package: sampleClassifier Version: 1.33.0 Command: /Library/Frameworks/R.framework/Resources/bin/R CMD INSTALL sampleClassifier StartedAt: 2025-10-24 15:36:20 -0400 (Fri, 24 Oct 2025) EndedAt: 2025-10-24 15:36:44 -0400 (Fri, 24 Oct 2025) EllapsedTime: 24.0 seconds RetCode: 0 Status: OK