Package: sampleClassifier Version: 1.33.0 Command: /Library/Frameworks/R.framework/Resources/bin/R CMD build --keep-empty-dirs --no-resave-data sampleClassifier StartedAt: 2025-10-24 18:35:11 -0400 (Fri, 24 Oct 2025) EndedAt: 2025-10-24 18:37:54 -0400 (Fri, 24 Oct 2025) EllapsedTime: 163.2 seconds RetCode: 0 Status: OK PackageFile: sampleClassifier_1.33.0.tar.gz PackageFileSize: 237.9 KiB