Package: sampleClassifier Version: 1.33.0 Command: rm -rf sampleClassifier.buildbin-libdir && mkdir sampleClassifier.buildbin-libdir && /Users/biocbuild/BBS/utils/build-universal.sh sampleClassifier_1.33.0.tar.gz /Library/Frameworks/R.framework/Resources/bin/R sampleClassifier.buildbin-libdir StartedAt: 2025-10-25 02:01:18 -0400 (Sat, 25 Oct 2025) EndedAt: 2025-10-25 02:01:47 -0400 (Sat, 25 Oct 2025) EllapsedTime: 28.7 seconds RetCode: 0 Status: OK PackageFile: sampleClassifier_1.33.0.tgz PackageFileSize: 270 KiB