Package: sSeq Version: 1.48.0 Command: /home/biocbuild/bbs-3.22-bioc/R/bin/R CMD INSTALL sSeq StartedAt: 2025-11-17 16:47:49 -0500 (Mon, 17 Nov 2025) EndedAt: 2025-11-17 16:47:52 -0500 (Mon, 17 Nov 2025) EllapsedTime: 3.2 seconds RetCode: 0 Status: OK