Package: sSNAPPY Version: 1.14.0 Command: /home/biocbuild/bbs-3.22-bioc/R/bin/R CMD INSTALL sSNAPPY StartedAt: 2025-11-17 17:46:37 -0500 (Mon, 17 Nov 2025) EndedAt: 2025-11-17 17:47:10 -0500 (Mon, 17 Nov 2025) EllapsedTime: 32.4 seconds RetCode: 0 Status: OK