Package: sSNAPPY Version: 1.14.0 Command: /home/biocbuild/bbs-3.22-bioc/R/bin/R CMD build --keep-empty-dirs --no-resave-data --md5 sSNAPPY StartedAt: 2025-11-17 23:48:19 -0500 (Mon, 17 Nov 2025) EndedAt: 2025-11-17 23:56:49 -0500 (Mon, 17 Nov 2025) EllapsedTime: 510.8 seconds RetCode: 0 Status: OK PackageFile: sSNAPPY_1.14.0.tar.gz PackageFileSize: 4.022 MiB