Package: rtracklayer Version: 1.70.0 Command: /home/biocbuild/bbs-3.22-bioc/R/bin/R CMD INSTALL rtracklayer StartedAt: 2025-11-09 15:25:37 -0500 (Sun, 09 Nov 2025) EndedAt: 2025-11-09 15:26:30 -0500 (Sun, 09 Nov 2025) EllapsedTime: 53.0 seconds RetCode: 0 Status: OK