Package: rsbml Version: 2.67.0 Command: /home/biocbuild/bbs-3.22-bioc/R/bin/R CMD INSTALL rsbml StartedAt: 2025-10-24 15:22:57 -0400 (Fri, 24 Oct 2025) EndedAt: 2025-10-24 15:23:13 -0400 (Fri, 24 Oct 2025) EllapsedTime: 15.7 seconds RetCode: 0 Status: OK