Package: rqt Version: 1.36.0 Command: /home/biocbuild/bbs-3.22-bioc/R/bin/R CMD INSTALL rqt StartedAt: 2025-11-25 15:47:42 -0500 (Tue, 25 Nov 2025) EndedAt: 2025-11-25 15:48:08 -0500 (Tue, 25 Nov 2025) EllapsedTime: 26.8 seconds RetCode: 0 Status: OK