Package: rqt Version: 1.36.0 Command: /home/biocbuild/bbs-3.22-bioc/R/bin/R CMD build --keep-empty-dirs --no-resave-data --md5 rqt StartedAt: 2025-11-20 20:33:26 -0500 (Thu, 20 Nov 2025) EndedAt: 2025-11-20 20:34:09 -0500 (Thu, 20 Nov 2025) EllapsedTime: 43.1 seconds RetCode: 0 Status: OK PackageFile: rqt_1.36.0.tar.gz PackageFileSize: 543.2 KiB